BEGIN:VCALENDAR
VERSION:2.0
PRODID:-//Alpha Kappa Alpha Sorority, Incorporated® Lambda Kappa Omega Chapter - ECPv6.15.13//NONSGML v1.0//EN
CALSCALE:GREGORIAN
METHOD:PUBLISH
X-WR-CALNAME:Alpha Kappa Alpha Sorority, Incorporated® Lambda Kappa Omega Chapter
X-ORIGINAL-URL:https://aka-lko.org
X-WR-CALDESC:Events for Alpha Kappa Alpha Sorority, Incorporated® Lambda Kappa Omega Chapter
REFRESH-INTERVAL;VALUE=DURATION:PT1H
X-Robots-Tag:noindex
X-PUBLISHED-TTL:PT1H
BEGIN:VTIMEZONE
TZID:America/New_York
BEGIN:DAYLIGHT
TZOFFSETFROM:-0500
TZOFFSETTO:-0400
TZNAME:EDT
DTSTART:20250309T070000
END:DAYLIGHT
BEGIN:STANDARD
TZOFFSETFROM:-0400
TZOFFSETTO:-0500
TZNAME:EST
DTSTART:20251102T060000
END:STANDARD
BEGIN:DAYLIGHT
TZOFFSETFROM:-0500
TZOFFSETTO:-0400
TZNAME:EDT
DTSTART:20260308T070000
END:DAYLIGHT
BEGIN:STANDARD
TZOFFSETFROM:-0400
TZOFFSETTO:-0500
TZNAME:EST
DTSTART:20261101T060000
END:STANDARD
BEGIN:DAYLIGHT
TZOFFSETFROM:-0500
TZOFFSETTO:-0400
TZNAME:EDT
DTSTART:20270314T070000
END:DAYLIGHT
BEGIN:STANDARD
TZOFFSETFROM:-0400
TZOFFSETTO:-0500
TZNAME:EST
DTSTART:20271107T060000
END:STANDARD
END:VTIMEZONE
BEGIN:VEVENT
DTSTART;TZID=America/New_York:20260214T100000
DTEND;TZID=America/New_York:20260214T120000
DTSTAMP:20260422T182143
CREATED:20260212T025927Z
LAST-MODIFIED:20260212T030056Z
UID:4267-1771063200-1771070400@aka-lko.org
SUMMARY:Monthly Chapter Meeting
DESCRIPTION:If you are a duly initiated member of Alpha Kappa Alpha Sorority\, Incorporated® and would like to attend our chapter meeting\, please email for more information. All visitors will be required to provide a picture ID and proof of membership.
URL:https://aka-lko.org/event/monthly-chapter-meeting-51/
ORGANIZER;CN="LKO Membership":MAILTO:lkomembership@gmail.com
END:VEVENT
BEGIN:VEVENT
DTSTART;TZID=America/New_York:20260328T100000
DTEND;TZID=America/New_York:20260328T120000
DTSTAMP:20260422T182143
CREATED:20260212T030221Z
LAST-MODIFIED:20260212T030221Z
UID:4270-1774692000-1774699200@aka-lko.org
SUMMARY:Monthly Chapter Meeting
DESCRIPTION:If you are a duly initiated member of Alpha Kappa Alpha Sorority\, Incorporated® and would like to attend our chapter meeting\, please email for more information. All visitors will be required to provide a picture ID and proof of membership.
URL:https://aka-lko.org/event/monthly-chapter-meeting-52/
ORGANIZER;CN="LKO Membership":MAILTO:lkomembership@gmail.com
END:VEVENT
END:VCALENDAR